BEGIN:VCALENDAR
VERSION:2.0
PRODID:-//Kawartha Potters&#039; Guild - ECPv6.15.17.1//NONSGML v1.0//EN
CALSCALE:GREGORIAN
METHOD:PUBLISH
X-ORIGINAL-URL:https://kawarthapottersguild.com
X-WR-CALDESC:Events for Kawartha Potters&#039; Guild
REFRESH-INTERVAL;VALUE=DURATION:PT1H
X-Robots-Tag:noindex
X-PUBLISHED-TTL:PT1H
BEGIN:VTIMEZONE
TZID:America/Toronto
BEGIN:DAYLIGHT
TZOFFSETFROM:-0500
TZOFFSETTO:-0400
TZNAME:EDT
DTSTART:20250309T070000
END:DAYLIGHT
BEGIN:STANDARD
TZOFFSETFROM:-0400
TZOFFSETTO:-0500
TZNAME:EST
DTSTART:20251102T060000
END:STANDARD
BEGIN:DAYLIGHT
TZOFFSETFROM:-0500
TZOFFSETTO:-0400
TZNAME:EDT
DTSTART:20260308T070000
END:DAYLIGHT
BEGIN:STANDARD
TZOFFSETFROM:-0400
TZOFFSETTO:-0500
TZNAME:EST
DTSTART:20261101T060000
END:STANDARD
BEGIN:DAYLIGHT
TZOFFSETFROM:-0500
TZOFFSETTO:-0400
TZNAME:EDT
DTSTART:20270314T070000
END:DAYLIGHT
BEGIN:STANDARD
TZOFFSETFROM:-0400
TZOFFSETTO:-0500
TZNAME:EST
DTSTART:20271107T060000
END:STANDARD
END:VTIMEZONE
BEGIN:VEVENT
DTSTART;TZID=America/Toronto:20260707T090000
DTEND;TZID=America/Toronto:20260707T140000
DTSTAMP:20260423T055517
CREATED:20260304T231909Z
LAST-MODIFIED:20260304T231909Z
UID:10000541-1783414800-1783432800@kawarthapottersguild.com
SUMMARY:Teen Wheel Summer Program
DESCRIPTION:This program is a 4 day-long\, wheel throwing camp for teens only\, ages 13-17.  This week runs from 9 a.m. – 2 p.m\, Tuesday-Friday.  \nDuring this week campers will be shown how to work on the wheel and in handbuilding and will be given ample chance to practice and make a variety of pieces. \nPerfect for creative minds and young artists! Plenty of opportunity to let imaginations run wild. We are always amazed at the art coming from summer camp! \nInfo for Parents/Guardians: \n\nThe camp area is clearly delineated for use by campers and camp staff only\, including our private courtyard area\nCampers should bring their own water bottle/lunch/snacks (no refrigeration available)\nRatio of staff to campers is 1 to 4\, with a maximum of 8 campers and a minimum of 2 staff.\n\nSome projects will need to be picked up aprox. 2 weeks after their camp week is finished as we need to fire them in our kilns to finish. Alternate arrangements can be made with our administrator if needed \n-Once you have registered and paid\, we will email the forms needed for camper information. These must be completed and returned before you child’s space is confirmed. \nPayment Details: (please include with description) \nAs a not-for-profit PayPal fees can cut into slim operating budget- payment by e-transfers or cash at the guild are greatly appreciated! \nplease send e-transfers to administrator@kawarthapottersguild.com \nCost: $320/week (no HST). \nSubsidies are available through the City of Peterborough for residents in need\, our camp does qualify for this program. For more info please visit: https://www.peterborough.ca/recreation-culture-social-services/recreation-and-parks-services/customer-service/recreation-fee-subsidy/#Application \nRefund Policy: \nNo refund will be given if notice of withdrawal is not received at least 10 business days in advance of the start date. All refunds are subject to an administration fee of 20%.  If camper cannot attend due to illness or other please contact our administrator as soon as possible\, arrangements will be made on a case by case basis.
URL:https://kawarthapottersguild.com/event/teen-wheel-summer-program/
LOCATION:Kawartha Potters’ Guild\, Kingswood Centre\, 993 Talwood Drive\, Peterborough\, ON\, K9J 7R8\, Canada
CATEGORIES:Clay & Play
GEO:44.2929648;-78.3470201
X-APPLE-STRUCTURED-LOCATION;VALUE=URI;X-ADDRESS=Kawartha Potters’ Guild Kingswood Centre 993 Talwood Drive Peterborough ON K9J 7R8 Canada;X-APPLE-RADIUS=500;X-TITLE=993 Talwood Drive:geo:-78.3470201,44.2929648
END:VEVENT
BEGIN:VEVENT
DTSTART;TZID=America/Toronto:20260713T090000
DTEND;TZID=America/Toronto:20260713T160000
DTSTAMP:20260423T055517
CREATED:20260301T193858Z
LAST-MODIFIED:20260302T190700Z
UID:10000540-1783933200-1783958400@kawarthapottersguild.com
SUMMARY:Clay & Crafts Summer Camp for Kids
DESCRIPTION:Our KPG Clay & Crafts summer camp is a week-long day camp for youngsters aged 7-12\, running from 9 a.m. to 4 p.m. Monday-Friday. Filled with hand-building clay projects\, games\, and arts & craft activities. \nPerfect for growing creative minds\, mud lovers\, and budding artists! Plenty of opportunity to let imaginations run wild. We are always amazed at the art coming from summer camp! \nInfo for Parents/Guardians: \n\nThe camp area is clearly delineated for use by campers and camp staff only\, including our private courtyard area\nCampers should bring their own water bottle/lunch/snacks (no refrigeration available)/sunscreen/hat/ towel (for outdoors)\nRatio of staff to campers is 1 to 3\, with a maximum of 8 campers and a minimum of 3 staff.\nCampers may visit local park under the supervision of our trained instructors\nSome projects will need to be picked up aprox. 2 weeks after their camp week is finished as we need to fire them in our kilns to finish. Alternate arrangements can be made with our administrator if needed\n\nOnce you have registered and paid\, we will email the forms needed for camper information. These must be completed and returned before you child’s space is confirmed. \nPayment Details:  \nAs a not-for-profit PayPal fees can cut into slim operating budget- payment by e-transfers or cash at the Guild are greatly appreciated! \nplease send e-transfers to administrator@kawarthapottersguild.com \nCost: $320/week (no HST). \nSubsidies are available through the City of Peterborough for residents in need\, our camp does qualify for this program. For more info please visit: https://www.peterborough.ca/recreation-culture-social-services/recreation-and-parks-services/customer-service/recreation-fee-subsidy/#Application \nRefund Policy: \nNo refund will be given if notice of withdrawal is not received at least 10 business days in advance of the start date. All refunds are subject to an administration fee of 20%.  If camper cannot attend due to illness or other please contact our administrator as soon as possible\, arrangements will be made on a case by case basis. \nDates: \n\nKids Camp Week 1: July 13-17th 9am-4pm daily\nKids Camp Week 2: July 20-24th 9am-4pm daily\nKids Camp Week 3: July 27th-31st 9am-4pm daily\nKids Camp Week 4: August 10-14th 9am-4pm daily\nKids Camp Week 5: August 17th-21st 9am-4pm daily\nKids Camp Week 6: August 24th-28th 9am-4pm daily
URL:https://kawarthapottersguild.com/event/clay-crafts-summer-camp-for-kids/
LOCATION:ON
CATEGORIES:Clay & Play
ATTACH;FMTTYPE=image/jpeg:https://kawarthapottersguild.com/wp-content/uploads/2026/03/Kids-Handbuilding.jpg
END:VEVENT
END:VCALENDAR