BEGIN:VCALENDAR
VERSION:2.0
PRODID:-//Kawartha Potters&#039; Guild - ECPv6.15.17.1//NONSGML v1.0//EN
CALSCALE:GREGORIAN
METHOD:PUBLISH
X-WR-CALNAME:Kawartha Potters&#039; Guild
X-ORIGINAL-URL:https://kawarthapottersguild.com
X-WR-CALDESC:Events for Kawartha Potters&#039; Guild
REFRESH-INTERVAL;VALUE=DURATION:PT1H
X-Robots-Tag:noindex
X-PUBLISHED-TTL:PT1H
BEGIN:VTIMEZONE
TZID:America/Toronto
BEGIN:DAYLIGHT
TZOFFSETFROM:-0500
TZOFFSETTO:-0400
TZNAME:EDT
DTSTART:20240310T070000
END:DAYLIGHT
BEGIN:STANDARD
TZOFFSETFROM:-0400
TZOFFSETTO:-0500
TZNAME:EST
DTSTART:20241103T060000
END:STANDARD
BEGIN:DAYLIGHT
TZOFFSETFROM:-0500
TZOFFSETTO:-0400
TZNAME:EDT
DTSTART:20250309T070000
END:DAYLIGHT
BEGIN:STANDARD
TZOFFSETFROM:-0400
TZOFFSETTO:-0500
TZNAME:EST
DTSTART:20251102T060000
END:STANDARD
BEGIN:DAYLIGHT
TZOFFSETFROM:-0500
TZOFFSETTO:-0400
TZNAME:EDT
DTSTART:20260308T070000
END:DAYLIGHT
BEGIN:STANDARD
TZOFFSETFROM:-0400
TZOFFSETTO:-0500
TZNAME:EST
DTSTART:20261101T060000
END:STANDARD
END:VTIMEZONE
BEGIN:VEVENT
DTSTART;TZID=America/Toronto:20250504T103000
DTEND;TZID=America/Toronto:20250504T123000
DTSTAMP:20260424T071128
CREATED:20250111T223157Z
LAST-MODIFIED:20250415T214704Z
UID:10000389-1746354600-1746361800@kawarthapottersguild.com
SUMMARY:Berry Bowl & Plate Workshop - Brenda - May 4\, 2025
DESCRIPTION:Join us for a hands-on workshop where you’ll learn the hand building slab technique to create a unique personal-sized berry bowl and a matching plate. Explore your creativity by adding texture using our variety of stamps\, and we’ll take care of the glazing to finish your pieces. Your handcrafted berry bowl and plate will be ready for pickup in three weeks after the workshop\, allowing you to enjoy your custom creations! \nDon’t miss out—register today to secure your spot to play with clay! \nThis one off class runs Sunday morning May 4\, 2025\, 10:30 a.m. – 12:30 p.m. Cost is $73.45 (tax included) per person.  This includes all materials\, finishing and firing. \nCovid Policy: \nFace masks are no longer a requirement in the Guild.  KPG space is mask friendly and we do encourage you to wear a mask when working near others. \nWe request that if you feel sick to any degree\, that you do not come to class\, and to notify the Guild.   \nRefund Policy: \nNo refund will be given if notice of withdrawal is not received at least 10 days in advance of the start date. All refunds are subject to an administration fee of 20%. Any refund can be transferred to another class or purchase of items in the Pottery Shop (via a gift certificate) at full value.   \n 
URL:https://kawarthapottersguild.com/event/berry-workshop-brenda/
LOCATION:ON
CATEGORIES:Workshop
ATTACH;FMTTYPE=image/jpeg:https://kawarthapottersguild.com/wp-content/uploads/2024/07/Brenda-Barron.jpg
END:VEVENT
END:VCALENDAR