BEGIN:VCALENDAR
VERSION:2.0
PRODID:-//Kawartha Potters&#039; Guild - ECPv6.15.17.1//NONSGML v1.0//EN
CALSCALE:GREGORIAN
METHOD:PUBLISH
X-ORIGINAL-URL:https://kawarthapottersguild.com
X-WR-CALDESC:Events for Kawartha Potters&#039; Guild
REFRESH-INTERVAL;VALUE=DURATION:PT1H
X-Robots-Tag:noindex
X-PUBLISHED-TTL:PT1H
BEGIN:VTIMEZONE
TZID:America/Toronto
BEGIN:DAYLIGHT
TZOFFSETFROM:-0500
TZOFFSETTO:-0400
TZNAME:EDT
DTSTART:20240310T070000
END:DAYLIGHT
BEGIN:STANDARD
TZOFFSETFROM:-0400
TZOFFSETTO:-0500
TZNAME:EST
DTSTART:20241103T060000
END:STANDARD
BEGIN:DAYLIGHT
TZOFFSETFROM:-0500
TZOFFSETTO:-0400
TZNAME:EDT
DTSTART:20250309T070000
END:DAYLIGHT
BEGIN:STANDARD
TZOFFSETFROM:-0400
TZOFFSETTO:-0500
TZNAME:EST
DTSTART:20251102T060000
END:STANDARD
BEGIN:DAYLIGHT
TZOFFSETFROM:-0500
TZOFFSETTO:-0400
TZNAME:EDT
DTSTART:20260308T070000
END:DAYLIGHT
BEGIN:STANDARD
TZOFFSETFROM:-0400
TZOFFSETTO:-0500
TZNAME:EST
DTSTART:20261101T060000
END:STANDARD
END:VTIMEZONE
BEGIN:VEVENT
DTSTART;TZID=America/Toronto:20250606T113000
DTEND;TZID=America/Toronto:20250606T143000
DTSTAMP:20260422T072308
CREATED:20250531T185214Z
LAST-MODIFIED:20250531T185353Z
UID:10000448-1749209400-1749220200@kawarthapottersguild.com
SUMMARY:Altered Forms Workshop
DESCRIPTION:Combine wheel and hand-building techniques in this 4-session class. Must be able to center and pull a cylinder. Includes 10kg of clay. \nRegister via e-transfer: administrator@kawarthapottersguild.com
URL:https://kawarthapottersguild.com/event/altered-forms-workshop/
LOCATION:Kawartha Potters’ Guild\, Kingswood Centre\, 993 Talwood Drive\, Peterborough\, ON\, K9J 7R8\, Canada
CATEGORIES:Workshop
ATTACH;FMTTYPE=image/jpeg:https://kawarthapottersguild.com/wp-content/uploads/2012/10/June_landsdowne.jpg
GEO:44.2929648;-78.3470201
X-APPLE-STRUCTURED-LOCATION;VALUE=URI;X-ADDRESS=Kawartha Potters’ Guild Kingswood Centre 993 Talwood Drive Peterborough ON K9J 7R8 Canada;X-APPLE-RADIUS=500;X-TITLE=993 Talwood Drive:geo:-78.3470201,44.2929648
END:VEVENT
BEGIN:VEVENT
DTSTART;TZID=America/Toronto:20250608T103000
DTEND;TZID=America/Toronto:20250608T123000
DTSTAMP:20260422T072308
CREATED:20250111T223448Z
LAST-MODIFIED:20250522T183747Z
UID:10000390-1749378600-1749385800@kawarthapottersguild.com
SUMMARY:Mug + Mini Plate - Brenda - June 8\, 2025
DESCRIPTION:Mug + Mini Plate \n \nJoin us for a fun handbuilding workshop where you’ll craft a personalized mug and a mini plate perfect for tea bags or jewelry! Explore your creativity by adding unique textures with our variety of available stamps. After shaping and creating your pieces\, we’ll glaze them\, and you can pick them up three weeks later to enjoy your handmade creations. Don’t miss this opportunity to express your artistic side! \nDon’t miss out—register today to secure your spot to play with clay! \nThis one off class runs Sunday morning June 8th\, 2025\, 10:30 a.m. – 12:30 p.m. Cost is $73.45 (tax included) per person.  This includes all materials\, finishing and firing. \nCovid Policy: \nFace masks are no longer a requirement in the Guild.  KPG space is mask friendly and we do encourage you to wear a mask when working near others. \nWe request that if you feel sick to any degree\, that you do not come to class\, and to notify the Guild.   \nRefund Policy: \nNo refund will be given if notice of withdrawal is not received at least 10 days in advance of the start date. All refunds are subject to an administration fee of 20%. Any refund can be transferred to another class or purchase of items in the Pottery Shop (via a gift certificate) at full value.   \n 
URL:https://kawarthapottersguild.com/event/succulent-planter-workshop/
LOCATION:ON
CATEGORIES:Workshop
ATTACH;FMTTYPE=image/jpeg:https://kawarthapottersguild.com/wp-content/uploads/2024/07/Brenda-Barron.jpg
END:VEVENT
BEGIN:VEVENT
DTSTART;TZID=America/Toronto:20250614T130000
DTEND;TZID=America/Toronto:20250614T170000
DTSTAMP:20260422T072308
CREATED:20250531T184858Z
LAST-MODIFIED:20250531T184911Z
UID:10000447-1749906000-1749920400@kawarthapottersguild.com
SUMMARY:Throwing Large Boot Camp
DESCRIPTION:Practice throwing larger vessels—this class is all about technique and process\, not keeping pieces. Must be able to center 1kg of clay. \nRegister via e-transfer: administrator@kawarthapottersguild.com
URL:https://kawarthapottersguild.com/event/throwing-large-boot-camp/
LOCATION:Kawartha Potters’ Guild\, Kingswood Centre\, 993 Talwood Drive\, Peterborough\, ON\, K9J 7R8\, Canada
CATEGORIES:Workshop
ATTACH;FMTTYPE=image/png:https://kawarthapottersguild.com/wp-content/uploads/2025/05/u9861474592_realistic_image_of_a_very_large_clay_vase_next_to_3000f227-4086-4dc4-8fba-98a37cc23aab_2.png
GEO:44.2929648;-78.3470201
X-APPLE-STRUCTURED-LOCATION;VALUE=URI;X-ADDRESS=Kawartha Potters’ Guild Kingswood Centre 993 Talwood Drive Peterborough ON K9J 7R8 Canada;X-APPLE-RADIUS=500;X-TITLE=993 Talwood Drive:geo:-78.3470201,44.2929648
END:VEVENT
BEGIN:VEVENT
DTSTART;TZID=America/Toronto:20250621T130000
DTEND;TZID=America/Toronto:20250621T170000
DTSTAMP:20260422T072308
CREATED:20250531T184450Z
LAST-MODIFIED:20250531T184450Z
UID:10000446-1750510800-1750525200@kawarthapottersguild.com
SUMMARY:Pattern Planning Workshop
DESCRIPTION:Explore repeated patterns like mandalas and geometric forms using sgraffito. No prior experience needed. Bring a medium leatherhard piece if you wish. \nRegister via e-transfer: administrator@kawarthapottersguild.com
URL:https://kawarthapottersguild.com/event/pattern-planning-workshop/
LOCATION:Kawartha Potters’ Guild\, Kingswood Centre\, 993 Talwood Drive\, Peterborough\, ON\, K9J 7R8\, Canada
CATEGORIES:Workshop
ATTACH;FMTTYPE=image/jpeg:https://kawarthapottersguild.com/wp-content/uploads/2025/05/Patterns.jpg
GEO:44.2929648;-78.3470201
X-APPLE-STRUCTURED-LOCATION;VALUE=URI;X-ADDRESS=Kawartha Potters’ Guild Kingswood Centre 993 Talwood Drive Peterborough ON K9J 7R8 Canada;X-APPLE-RADIUS=500;X-TITLE=993 Talwood Drive:geo:-78.3470201,44.2929648
END:VEVENT
END:VCALENDAR