BEGIN:VCALENDAR
VERSION:2.0
PRODID:-//Kawartha Potters&#039; Guild - ECPv6.15.17.1//NONSGML v1.0//EN
CALSCALE:GREGORIAN
METHOD:PUBLISH
X-ORIGINAL-URL:https://kawarthapottersguild.com
X-WR-CALDESC:Events for Kawartha Potters&#039; Guild
REFRESH-INTERVAL;VALUE=DURATION:PT1H
X-Robots-Tag:noindex
X-PUBLISHED-TTL:PT1H
BEGIN:VTIMEZONE
TZID:America/Toronto
BEGIN:DAYLIGHT
TZOFFSETFROM:-0500
TZOFFSETTO:-0400
TZNAME:EDT
DTSTART:20240310T070000
END:DAYLIGHT
BEGIN:STANDARD
TZOFFSETFROM:-0400
TZOFFSETTO:-0500
TZNAME:EST
DTSTART:20241103T060000
END:STANDARD
BEGIN:DAYLIGHT
TZOFFSETFROM:-0500
TZOFFSETTO:-0400
TZNAME:EDT
DTSTART:20250309T070000
END:DAYLIGHT
BEGIN:STANDARD
TZOFFSETFROM:-0400
TZOFFSETTO:-0500
TZNAME:EST
DTSTART:20251102T060000
END:STANDARD
BEGIN:DAYLIGHT
TZOFFSETFROM:-0500
TZOFFSETTO:-0400
TZNAME:EDT
DTSTART:20260308T070000
END:DAYLIGHT
BEGIN:STANDARD
TZOFFSETFROM:-0400
TZOFFSETTO:-0500
TZNAME:EST
DTSTART:20261101T060000
END:STANDARD
END:VTIMEZONE
BEGIN:VEVENT
DTSTART;TZID=America/Toronto:20251207T103000
DTEND;TZID=America/Toronto:20251207T123000
DTSTAMP:20260419T190055
CREATED:20250111T224714Z
LAST-MODIFIED:20250415T214942Z
UID:10000393-1765103400-1765110600@kawarthapottersguild.com
SUMMARY:Ornaments/Gift Tags Workshop - Brenda - December 7\, 2025
DESCRIPTION:Join us for a fun and creative workshop where you’ll use the slab hand building technique to craft up to 8 unique ornaments that double as gift tags! We’ll provide templates\, texture tools\, and underglaze to help you personalize your pieces\, which will be finished with a clear glaze for a polished look. Your ornaments will be ready for pick up two weeks after the workshop—just add a ribbon and they’re perfect for gifting! \nDon’t miss out—register today to secure your spot to play with clay! \nThis one off class runs Sunday morning December 7\, 2025\, 10:30 a.m. – 12:30 p.m. Cost is $73.45 (tax included) per person.  This includes all materials\, finishing and firing. \nCovid Policy: \nFace masks are no longer a requirement in the Guild.  KPG space is mask friendly and we do encourage you to wear a mask when working near others. \nWe request that if you feel sick to any degree\, that you do not come to class\, and to notify the Guild.   \nRefund Policy: \nNo refund will be given if notice of withdrawal is not received at least 10 days in advance of the start date. All refunds are subject to an administration fee of 20%. Any refund can be transferred to another class or purchase of items in the Pottery Shop (via a gift certificate) at full value.   \n 
URL:https://kawarthapottersguild.com/event/ornaments-workshop-december/
LOCATION:ON
CATEGORIES:Workshop
ATTACH;FMTTYPE=image/jpeg:https://kawarthapottersguild.com/wp-content/uploads/2024/07/Brenda-Barron.jpg
END:VEVENT
END:VCALENDAR