BEGIN:VCALENDAR
VERSION:2.0
PRODID:-//Kawartha Potters&#039; Guild - ECPv6.15.17.1//NONSGML v1.0//EN
CALSCALE:GREGORIAN
METHOD:PUBLISH
X-ORIGINAL-URL:https://kawarthapottersguild.com
X-WR-CALDESC:Events for Kawartha Potters&#039; Guild
REFRESH-INTERVAL;VALUE=DURATION:PT1H
X-Robots-Tag:noindex
X-PUBLISHED-TTL:PT1H
BEGIN:VTIMEZONE
TZID:America/Toronto
BEGIN:DAYLIGHT
TZOFFSETFROM:-0500
TZOFFSETTO:-0400
TZNAME:EDT
DTSTART:20250309T070000
END:DAYLIGHT
BEGIN:STANDARD
TZOFFSETFROM:-0400
TZOFFSETTO:-0500
TZNAME:EST
DTSTART:20251102T060000
END:STANDARD
BEGIN:DAYLIGHT
TZOFFSETFROM:-0500
TZOFFSETTO:-0400
TZNAME:EDT
DTSTART:20260308T070000
END:DAYLIGHT
BEGIN:STANDARD
TZOFFSETFROM:-0400
TZOFFSETTO:-0500
TZNAME:EST
DTSTART:20261101T060000
END:STANDARD
BEGIN:DAYLIGHT
TZOFFSETFROM:-0500
TZOFFSETTO:-0400
TZNAME:EDT
DTSTART:20270314T070000
END:DAYLIGHT
BEGIN:STANDARD
TZOFFSETFROM:-0400
TZOFFSETTO:-0500
TZNAME:EST
DTSTART:20271107T060000
END:STANDARD
END:VTIMEZONE
BEGIN:VEVENT
DTSTART;TZID=America/Toronto:20260201T103000
DTEND;TZID=America/Toronto:20260201T130000
DTSTAMP:20260419T150205
CREATED:20251119T165524Z
LAST-MODIFIED:20251119T165524Z
UID:10000497-1769941800-1769950800@kawarthapottersguild.com
SUMMARY:Coffee Pour Over: Sunday Handbuilding Experience
DESCRIPTION:Join us for a fun handbuilding workshop where you’ll craft a personalized coffee pour over\, perfect for your morning brew\, or afternoon coffee break! Explore your creativity by adding unique textures with our variety of available stamps. After shaping and creating your pieces\, we’ll glaze them\, and you can pick them up three weeks later to enjoy your handmade creations. Don’t miss this opportunity to express your artistic side! \nDon’t miss out—register today to secure your spot to play with clay! \nThis one-off class runs Sunday morning February 1st 2026\, 10:30 a.m. – 1p.m. Cost is $73.45 (tax included) per person.  This includes all materials\, finishing and firing. \nTeacher: Brenda Barron \nBrenda has been a part-time potter since 1997. Her ceramic learning has come from many instructors and participation in numerous workshops. \nBrenda loves to share her knowledge with other clay lovers and has facilitated many workshops in her home studio. \nSeeking tranquillity in a fast-paced world\, Brenda found her calling by combining her love of cooking with making functional ceramics for everyday use in the kitchen. \nRefund Policy: \nNo refund will be given if notice of withdrawal is not received at least 10 days in advance of the start date. All refunds are subject to an administration fee of 20%. Any refund can be transferred to another class or purchase of items in the Pottery Shop (via a gift certificate) at full value. 
URL:https://kawarthapottersguild.com/event/coffee-pour-over-sunday-handbuilding-experience/
LOCATION:Kawartha Potters’ Guild\, Kingswood Centre\, 993 Talwood Drive\, Peterborough\, ON\, K9J 7R8\, Canada
CATEGORIES:Workshop
ATTACH;FMTTYPE=image/jpeg:https://kawarthapottersguild.com/wp-content/uploads/2025/04/hand-building-e1744053151458.jpg
GEO:44.2929648;-78.3470201
X-APPLE-STRUCTURED-LOCATION;VALUE=URI;X-ADDRESS=Kawartha Potters’ Guild Kingswood Centre 993 Talwood Drive Peterborough ON K9J 7R8 Canada;X-APPLE-RADIUS=500;X-TITLE=993 Talwood Drive:geo:-78.3470201,44.2929648
END:VEVENT
BEGIN:VEVENT
DTSTART;TZID=America/Toronto:20260214T130000
DTEND;TZID=America/Toronto:20260214T153000
DTSTAMP:20260419T150205
CREATED:20260207T160200Z
LAST-MODIFIED:20260207T170535Z
UID:10000535-1771074000-1771083000@kawarthapottersguild.com
SUMMARY:Valentines Days- Clay Play on the Wheel: One Day Potter’s Wheel Experience
DESCRIPTION:Bring your favorite partner\, friend or self to this Valentines afternoon throwing class!  \nLearn to throw down some pottery at our one day wheel class! You’ll dive right into the basics of the pottery wheel and come away with your new favourite bowl\, cup\, or vase. This will be a very hands on class so come prepared for a bit of mud and allot of fun! All materials and tools will be provided. We will trim your pieces\, gaze\, and fire them to be picked up 3-4 weeks after your class. This class in intended for adults\, teens aged 14+ are welcome if accompanied. \n• 8 students max- for hands on personalized instruction \n• learn to center\, open\, pull walls to make simple shapes like bowls/cups \n• keep 2-3 finished pieces (you choose glaze colour) \n• Small fee to keep more pieces as Kristina will have to trim and glaze\, $5 per piece \nSaturday February 14th 1:00pm + Saturday March 14th 1pm\n$85/person + HST  \nLove the experience? Can’t wait to touch clay again? Clay Play participants get a $25 discount on a 6 week session of classes to continue your pottery journey! \nFees: \nPayments can be made by e-transfer (preferred) or PayPal  \nAs a not-for-profit PayPal fees can cut into slim operating budget- payment by e-transfers or cash at the guild are greatly appreciated! \n Fee (with tax): $96.05  send e-transfer to administrator@kawarthapottersguild.com \nInstructor: Kristina \nRefund Policy: \nNo refund will be given if notice of withdrawal is not received at least 10 days in advance of the start date. All refunds are subject to an administration fee of 20%. Any refund can be transferred to another class or purchase of items in the Pottery Shop (via a gift certificate) at full value. 
URL:https://kawarthapottersguild.com/event/clay-play-on-the-wheel-one-day-potters-wheel-experience-3/
LOCATION:Kawartha Potters’ Guild\, Kingswood Centre\, 993 Talwood Drive\, Peterborough\, ON\, K9J 7R8\, Canada
CATEGORIES:Workshop
ATTACH;FMTTYPE=image/png:https://kawarthapottersguild.com/wp-content/uploads/2026/02/u9861474592_hyper_realistic_photo_of_a_pottery_class_at_the_k_e897cb12-00b1-4891-9330-73e96f84a866_3.png
GEO:44.2929648;-78.3470201
X-APPLE-STRUCTURED-LOCATION;VALUE=URI;X-ADDRESS=Kawartha Potters’ Guild Kingswood Centre 993 Talwood Drive Peterborough ON K9J 7R8 Canada;X-APPLE-RADIUS=500;X-TITLE=993 Talwood Drive:geo:-78.3470201,44.2929648
END:VEVENT
BEGIN:VEVENT
DTSTART;TZID=America/Toronto:20260214T130000
DTEND;TZID=America/Toronto:20260214T153000
DTSTAMP:20260419T150205
CREATED:20260210T172254Z
LAST-MODIFIED:20260210T172254Z
UID:10000537-1771074000-1771083000@kawarthapottersguild.com
SUMMARY:Valentines Day Charcuterie Board Handbuilding Workshop
DESCRIPTION:Join us for a special Valentines Day hands-on workshop where you’ll create a beautiful & unique serving tray!  \nFriends\, Couples\, and Self Lovers All Welcome!  \nYou’ll shape your piece from clay\, then explore a variety of texture tools to add surface details and make it uniquely yours. After decorating\, you’ll choose a clear or coloured glaze for a smooth\, food-safe finish. \nYour finished platter will be kiln-fired and ready for pickup about three weeks after the workshop. The perfect handmade piece for serving (or showing off!) \nPlease note: the platter you create may differ from the one pictured — each piece is uniquely yours. \nDon’t miss out—register today to secure your spot to play with clay! \nThis one off class runs Saturday afternoon from 1:00 p.m.- 3:30pm  Cost is $84.75 (tax included) per person.  This includes all materials\, finishing and firing. \nRefund Policy: \nNo refund will be given if notice of withdrawal is not received at least 10 days in advance of the start date. All refunds are subject to an administration fee of 20%. Any refund can be transferred to another class or purchase of items in the Pottery Shop (via a gift certificate) at full value.  In case of illness or inclement weather please contact us as soon as possible\, we will do our best to offer a make up class if possible. \nInstructor: Brenda Barron \nBrenda has been a part time potter since 1997. Her ceramic learning has come from many instructors and participation in numerous workshops.  \nBrenda loves to share her knowledge with other clay lovers and has facilitated many workshops in her home studio.  \nSeeking tranquility in a fast-paced world\, Brenda found her calling by combining her love of cooking with making functional ceramics for everyday use in the kitchen \nPayment Details: \nAs a not-for-profit PayPal fees can cut into slim operating budget- payment by e-transfers or cash at the guild are greatly appreciated! \nFee (with tax): $84.75 please send e-transfers to administrator@kawarthapottersguild.com
URL:https://kawarthapottersguild.com/event/valentines-day-charcuterie-board-handbuilding-workshop/
LOCATION:Kawartha Potters’ Guild\, Kingswood Centre\, 993 Talwood Drive\, Peterborough\, ON\, K9J 7R8\, Canada
CATEGORIES:Workshop
ATTACH;FMTTYPE=image/jpeg:https://kawarthapottersguild.com/wp-content/uploads/2026/02/heart-platter.jpg
GEO:44.2929648;-78.3470201
X-APPLE-STRUCTURED-LOCATION;VALUE=URI;X-ADDRESS=Kawartha Potters’ Guild Kingswood Centre 993 Talwood Drive Peterborough ON K9J 7R8 Canada;X-APPLE-RADIUS=500;X-TITLE=993 Talwood Drive:geo:-78.3470201,44.2929648
END:VEVENT
BEGIN:VEVENT
DTSTART;TZID=America/Toronto:20260216T183000
DTEND;TZID=America/Toronto:20260216T203000
DTSTAMP:20260419T150205
CREATED:20260211T182611Z
LAST-MODIFIED:20260211T183300Z
UID:10000538-1771266600-1771273800@kawarthapottersguild.com
SUMMARY:Cabernet & Clay: Candlelit Evening Potter’s Wheel Experience
DESCRIPTION:Join Jaz for a sultry evening of wheel throwing\, sweet tunes\, and wine or tea! You’ll dive right into the basics of the pottery wheel and come away with your new favourite bowl\, cup\, or vase. This will be a hands on class so come prepared for a bit of mud and allot of fun! All materials and tools will be provided. We will trim your pieces\, gaze\, and fire them to be picked up 3-4 weeks after your class. This class in intended for adults 19+  \n• 6 students max- for hands on personalized instruction \n• some experience preferred but not required (let us know)\n• keep 1 finished pieces (you choose glaze colour)\nMonday February 16th 6:30pm-8:30pm \n$55 non member price/person + HST \n$50 members price/person +HST \nPayment Details: \nAs a not-for-profit PayPal fees can cut into slim operating budget- payment by e-transfers or cash at the guild are greatly appreciated! \nFee (with tax): $56.50 (member total with tax)  please send e-transfers to administrator@kawarthapottersguild.com \n                            $62.15 (non-member price with tax) \n  \nRefund Policy: \nNo refund will be given if notice of withdrawal is not received at least 10 days in advance of the start date. All refunds are subject to an administration fee of 20%. Any refund can be transferred to another class or purchase of items in the Pottery Shop (via a gift certificate) at full value. 
URL:https://kawarthapottersguild.com/event/cabernet-clay-candlelit-evening-potters-wheel-experience/
LOCATION:Kawartha Potters’ Guild\, Kingswood Centre\, 993 Talwood Drive\, Peterborough\, ON\, K9J 7R8\, Canada
CATEGORIES:Classes,Workshop
ATTACH;FMTTYPE=image/jpeg:https://kawarthapottersguild.com/wp-content/uploads/2026/02/Cabernet-and-Clay.jpeg
GEO:44.2929648;-78.3470201
X-APPLE-STRUCTURED-LOCATION;VALUE=URI;X-ADDRESS=Kawartha Potters’ Guild Kingswood Centre 993 Talwood Drive Peterborough ON K9J 7R8 Canada;X-APPLE-RADIUS=500;X-TITLE=993 Talwood Drive:geo:-78.3470201,44.2929648
END:VEVENT
END:VCALENDAR