BEGIN:VCALENDAR
VERSION:2.0
PRODID:-//Kawartha Potters&#039; Guild - ECPv6.15.17.1//NONSGML v1.0//EN
CALSCALE:GREGORIAN
METHOD:PUBLISH
X-ORIGINAL-URL:https://kawarthapottersguild.com
X-WR-CALDESC:Events for Kawartha Potters&#039; Guild
REFRESH-INTERVAL;VALUE=DURATION:PT1H
X-Robots-Tag:noindex
X-PUBLISHED-TTL:PT1H
BEGIN:VTIMEZONE
TZID:America/Toronto
BEGIN:DAYLIGHT
TZOFFSETFROM:-0500
TZOFFSETTO:-0400
TZNAME:EDT
DTSTART:20250309T070000
END:DAYLIGHT
BEGIN:STANDARD
TZOFFSETFROM:-0400
TZOFFSETTO:-0500
TZNAME:EST
DTSTART:20251102T060000
END:STANDARD
BEGIN:DAYLIGHT
TZOFFSETFROM:-0500
TZOFFSETTO:-0400
TZNAME:EDT
DTSTART:20260308T070000
END:DAYLIGHT
BEGIN:STANDARD
TZOFFSETFROM:-0400
TZOFFSETTO:-0500
TZNAME:EST
DTSTART:20261101T060000
END:STANDARD
BEGIN:DAYLIGHT
TZOFFSETFROM:-0500
TZOFFSETTO:-0400
TZNAME:EDT
DTSTART:20270314T070000
END:DAYLIGHT
BEGIN:STANDARD
TZOFFSETFROM:-0400
TZOFFSETTO:-0500
TZNAME:EST
DTSTART:20271107T060000
END:STANDARD
END:VTIMEZONE
BEGIN:VEVENT
DTSTART;TZID=America/Toronto:20260301T103000
DTEND;TZID=America/Toronto:20260301T130000
DTSTAMP:20260419T131231
CREATED:20260203T154013Z
LAST-MODIFIED:20260203T202752Z
UID:10000531-1772361000-1772370000@kawarthapottersguild.com
SUMMARY:Cake Stand Handbuilding Workshop
DESCRIPTION:Join us for a hands-on workshop where you’ll learn handbuilding techniques to create your own beautiful cake platter. \nYou’ll shape your piece from clay\, then explore a variety of texture tools to add surface details and make it uniquely yours. After decorating\, you’ll choose a clear or coloured glaze for a smooth\, food-safe finish. \nYour finished platter will be kiln-fired and ready for pickup about three weeks after the workshop. The perfect handmade piece for serving (or showing off) your baking!  \nPlease note: the cake platter you create may differ from the one pictured — each piece is uniquely yours. \nDon’t miss out—register today to secure your spot to play with clay! \nThis one off class runs Sunday morning 10:30 a.m. – 1:00 p.m. Cost is $73.45 (tax included) per person.  This includes all materials\, finishing and firing. \nRefund Policy: \nNo refund will be given if notice of withdrawal is not received at least 10 days in advance of the start date. All refunds are subject to an administration fee of 20%. Any refund can be transferred to another class or purchase of items in the Pottery Shop (via a gift certificate) at full value.  In case of illness or inclement weather please contact us as soon as possible\, we will do our best to offer a make up class if possible. \nInstructor: Brenda Barron \nBrenda has been a part time potter since 1997. Her ceramic learning has come from many instructors and participation in numerous workshops.  \nBrenda loves to share her knowledge with other clay lovers and has facilitated many workshops in her home studio.  \nSeeking tranquility in a fast-paced world\, Brenda found her calling by combining her love of cooking with making functional ceramics for everyday use in the kitchen \nPayment Details: \nAs a not-for-profit PayPal fees can cut into slim operating budget- payment by e-transfers or cash at the guild are greatly appreciated! \nFee (with tax): $73.45 please send e-transfers to administrator@kawarthapottersguild.com
URL:https://kawarthapottersguild.com/event/cake-stand-handbuilding-workshop/
LOCATION:Kawartha Potters’ Guild\, Kingswood Centre\, 993 Talwood Drive\, Peterborough\, ON\, K9J 7R8\, Canada
CATEGORIES:Workshop
ATTACH;FMTTYPE=image/jpeg:https://kawarthapottersguild.com/wp-content/uploads/2026/02/Cake-Stand-e1770133387804.jpg
GEO:44.2929648;-78.3470201
X-APPLE-STRUCTURED-LOCATION;VALUE=URI;X-ADDRESS=Kawartha Potters’ Guild Kingswood Centre 993 Talwood Drive Peterborough ON K9J 7R8 Canada;X-APPLE-RADIUS=500;X-TITLE=993 Talwood Drive:geo:-78.3470201,44.2929648
END:VEVENT
BEGIN:VEVENT
DTSTART;TZID=America/Toronto:20260314T130000
DTEND;TZID=America/Toronto:20260314T153000
DTSTAMP:20260419T131231
CREATED:20260207T160301Z
LAST-MODIFIED:20260211T183416Z
UID:10000536-1773493200-1773502200@kawarthapottersguild.com
SUMMARY:Clay Play on the Wheel: One Day Potter’s Wheel Experience
DESCRIPTION:Learn to throw down some pottery at our one day wheel class! You’ll dive right into the basics of the pottery wheel and come away with your new favourite bowl\, cup\, or vase. This will be a very hands on class so come prepared for a bit of mud and allot of fun! All materials and tools will be provided. We will trim your pieces\, gaze\, and fire them to be picked up 3-4 weeks after your class. This class in intended for adults\, teens aged 14+ are welcome if accompanied. \n• 7 students max- for hands on personalized instruction \n• learn to center\, open\, pull walls to make simple shapes like bowls/cups \n• keep 2-3 finished pieces (you choose glaze colour) \n• Small fee to keep more pieces as Kristina will have to trim and glaze\, $5 per piece \nSaturday February 14th 1:00pm + Saturday March 14th 1pm\n$85/person + HST  \nLove the experience? Can’t wait to touch clay again? Clay Play participants get a $25 discount on a 6 week session of classes to continue your pottery journey! \nRefund Policy: \nNo refund will be given if notice of withdrawal is not received at least 10 days in advance of the start date. All refunds are subject to an administration fee of 20%. Any refund can be transferred to another class or purchase of items in the Pottery Shop (via a gift certificate) at full value. 
URL:https://kawarthapottersguild.com/event/clay-play-on-the-wheel-one-day-potters-wheel-experience-4/
LOCATION:Kawartha Potters’ Guild\, Kingswood Centre\, 993 Talwood Drive\, Peterborough\, ON\, K9J 7R8\, Canada
CATEGORIES:Workshop
ATTACH;FMTTYPE=image/png:https://kawarthapottersguild.com/wp-content/uploads/2026/02/u9861474592_hyper_realistic_photo_of_a_pottery_class_at_the_k_e897cb12-00b1-4891-9330-73e96f84a866_3.png
GEO:44.2929648;-78.3470201
X-APPLE-STRUCTURED-LOCATION;VALUE=URI;X-ADDRESS=Kawartha Potters’ Guild Kingswood Centre 993 Talwood Drive Peterborough ON K9J 7R8 Canada;X-APPLE-RADIUS=500;X-TITLE=993 Talwood Drive:geo:-78.3470201,44.2929648
END:VEVENT
BEGIN:VEVENT
DTSTART;TZID=America/Toronto:20260315T100000
DTEND;TZID=America/Toronto:20260315T160000
DTSTAMP:20260419T131231
CREATED:20250414T191036Z
LAST-MODIFIED:20260224T202328Z
UID:10000442-1773568800-1773590400@kawarthapottersguild.com
SUMMARY:Introductory Sgraffito Workshop with Cathy Allen- March 15th
DESCRIPTION:Ready to take your surface decoration to a new level?! \nIn this full day sgraffito introductory workshop\, you will begin with learning the basics of slip making using clay body and stain\, followed by slip and underglaze application on your pieces. Black slip will be provided. \nWe will go into some detail with some easy image transfer techniques too (including use of stencils and making your own). Various carving tools can be used for sgraffito techniques too\, and those will be covered as well. \nThis session will include elements and tips that go into making a successful design before you start carving your pieces. Students will explore sgraffito techniques using both slips and underglazes on some test pieces before diving in. Some of your own flat and cylindrical leatherhard pieces will beneeded for this workshop as well. \nSupply list will be sent to attendees after registration. \nFor Questions or to register\, please e-transfer administrator@kawarthapottersguild.com. \nBe sure to bring a lunch!  \nSome inspiration will be provided in the way of pattern and clipart books\, but please do bring any design ideas you want to try! \nFees: \nPayments can be made by e-transfer (preferred) or PayPal  \nAs a not-for-profit PayPal fees can cut into slim operating budget- payment by e-transfers are greatly appreciated! \nMember Fee (with tax): $113.00 must be paid via e-transfer to administrator@kawarthapottersguild.com \n Non-Member Fee (with tax): $124.30 send e-transfer to administrator@kawarthapottersguild.com
URL:https://kawarthapottersguild.com/event/intro-sgraffito-workshop-march-15th-with-cathy-allen/
LOCATION:Kawartha Potters’ Guild\, Kingswood Centre\, 993 Talwood Drive\, Peterborough\, ON\, K9J 7R8\, Canada
CATEGORIES:Workshop
ATTACH;FMTTYPE=image/jpeg:https://kawarthapottersguild.com/wp-content/uploads/2025/04/CA-full-day-intro-scraffito-workshop-March-2026-e1771963282744.jpg
GEO:44.2929648;-78.3470201
X-APPLE-STRUCTURED-LOCATION;VALUE=URI;X-ADDRESS=Kawartha Potters’ Guild Kingswood Centre 993 Talwood Drive Peterborough ON K9J 7R8 Canada;X-APPLE-RADIUS=500;X-TITLE=993 Talwood Drive:geo:-78.3470201,44.2929648
END:VEVENT
BEGIN:VEVENT
DTSTART;TZID=America/Toronto:20260329T103000
DTEND;TZID=America/Toronto:20260329T130000
DTSTAMP:20260419T131231
CREATED:20260203T154651Z
LAST-MODIFIED:20260203T174431Z
UID:10000532-1774780200-1774789200@kawarthapottersguild.com
SUMMARY:Butter Dish Handbuilding Workshop
DESCRIPTION:In this workshop\, you’ll learn hand building techniques to create your project from a ball of clay. After forming the pots\, you’ll have the opportunity to decorate them using a selection of vibrant underglaze colours. Once finished\, your creations will be coated in a clear or colored glaze (of your choice) for a polished & food safe finish\, and they will be ready for pick up three weeks after the workshop concludes. \nDon’t miss out—register today to secure your spot to play with clay! \nThis one off class runs Sunday morning 10:30 a.m. – 1:00 p.m. Cost is $73.45 (tax included) per person.  This includes all materials\, finishing and firing. \nRefund Policy: \nNo refund will be given if notice of withdrawal is not received at least 10 days in advance of the start date. All refunds are subject to an administration fee of 20%. Any refund can be transferred to another class or purchase of items in the Pottery Shop (via a gift certificate) at full value.  In case of illness or inclement weather please contact us as soon as possible\, we will do our best to offer a make up class if possible. \nInstructor: Brenda Barron \nBrenda has been a part time potter since 1997. Her ceramic learning has come from many instructors and participation in numerous workshops.  \nBrenda loves to share her knowledge with other clay lovers and has facilitated many workshops in her home studio.  \nSeeking tranquility in a fast-paced world\, Brenda found her calling by combining her love of cooking with making functional ceramics for everyday use in the kitchen \nPayment Details: \nAs a not-for-profit PayPal fees can cut into slim operating budget- payment by e-transfers or cash at the guild are greatly appreciated! \nFee (with tax): $73.45 please send e-transfers to administrator@kawarthapottersguild.com
URL:https://kawarthapottersguild.com/event/butter-dish-handbuilding-workshop/
LOCATION:Kawartha Potters’ Guild\, Kingswood Centre\, 993 Talwood Drive\, Peterborough\, ON\, K9J 7R8\, Canada
CATEGORIES:Workshop
ATTACH;FMTTYPE=image/jpeg:https://kawarthapottersguild.com/wp-content/uploads/2026/02/Butter-scaled-e1770133601721.jpg
GEO:44.2929648;-78.3470201
X-APPLE-STRUCTURED-LOCATION;VALUE=URI;X-ADDRESS=Kawartha Potters’ Guild Kingswood Centre 993 Talwood Drive Peterborough ON K9J 7R8 Canada;X-APPLE-RADIUS=500;X-TITLE=993 Talwood Drive:geo:-78.3470201,44.2929648
END:VEVENT
END:VCALENDAR