BEGIN:VCALENDAR
VERSION:2.0
PRODID:-//Kawartha Potters&#039; Guild - ECPv6.15.17.1//NONSGML v1.0//EN
CALSCALE:GREGORIAN
METHOD:PUBLISH
X-WR-CALNAME:Kawartha Potters&#039; Guild
X-ORIGINAL-URL:https://kawarthapottersguild.com
X-WR-CALDESC:Events for Kawartha Potters&#039; Guild
REFRESH-INTERVAL;VALUE=DURATION:PT1H
X-Robots-Tag:noindex
X-PUBLISHED-TTL:PT1H
BEGIN:VTIMEZONE
TZID:America/Toronto
BEGIN:DAYLIGHT
TZOFFSETFROM:-0500
TZOFFSETTO:-0400
TZNAME:EDT
DTSTART:20240310T070000
END:DAYLIGHT
BEGIN:STANDARD
TZOFFSETFROM:-0400
TZOFFSETTO:-0500
TZNAME:EST
DTSTART:20241103T060000
END:STANDARD
BEGIN:DAYLIGHT
TZOFFSETFROM:-0500
TZOFFSETTO:-0400
TZNAME:EDT
DTSTART:20250309T070000
END:DAYLIGHT
BEGIN:STANDARD
TZOFFSETFROM:-0400
TZOFFSETTO:-0500
TZNAME:EST
DTSTART:20251102T060000
END:STANDARD
BEGIN:DAYLIGHT
TZOFFSETFROM:-0500
TZOFFSETTO:-0400
TZNAME:EDT
DTSTART:20260308T070000
END:DAYLIGHT
BEGIN:STANDARD
TZOFFSETFROM:-0400
TZOFFSETTO:-0500
TZNAME:EST
DTSTART:20261101T060000
END:STANDARD
END:VTIMEZONE
BEGIN:VEVENT
DTSTART;TZID=America/Toronto:20251102T103000
DTEND;TZID=America/Toronto:20251102T123000
DTSTAMP:20260423T072559
CREATED:20250111T224428Z
LAST-MODIFIED:20250415T214917Z
UID:10000392-1762079400-1762086600@kawarthapottersguild.com
SUMMARY:Snowman Workshop - Brenda - November 2\, 2025
DESCRIPTION:In this workshop\, you’ll learn the pinch pot hand building technique to craft your own unique snowman from a ball of clay. You’ll have the opportunity to decorate your creation with various underglaze colours\, allowing for personalized touches\, and it will be finished with a clear glaze for a polished look. Your snowman will be ready for pick-up three weeks after the session\, making it a delightful holiday keepsake! \nDon’t miss out—register today to secure your spot to play with clay! \nThis one off class runs Sunday morning November 2\, 2025\, 10:30 a.m. – 12:30 p.m. Cost is $73.45 (tax included) per person.  This includes all materials\, finishing and firing. \nCovid Policy: \nFace masks are no longer a requirement in the Guild.  KPG space is mask friendly and we do encourage you to wear a mask when working near others. \nWe request that if you feel sick to any degree\, that you do not come to class\, and to notify the Guild.   \nRefund Policy: \nNo refund will be given if notice of withdrawal is not received at least 10 days in advance of the start date. All refunds are subject to an administration fee of 20%. Any refund can be transferred to another class or purchase of items in the Pottery Shop (via a gift certificate) at full value.   \n 
URL:https://kawarthapottersguild.com/event/snowman-workshop-november/
CATEGORIES:Workshop
ATTACH;FMTTYPE=image/jpeg:https://kawarthapottersguild.com/wp-content/uploads/2024/07/Brenda-Barron.jpg
END:VEVENT
BEGIN:VEVENT
DTSTART;TZID=America/Toronto:20251101T130000
DTEND;TZID=America/Toronto:20251101T153000
DTSTAMP:20260423T072559
CREATED:20250611T214009Z
LAST-MODIFIED:20250711T003304Z
UID:10000475-1762002000-1762011000@kawarthapottersguild.com
SUMMARY:6 Week Session - Hand Building - November 1\, 2025
DESCRIPTION:Get your hands dirty and your imagination flowing in this exciting 6-week pottery hand building class designed for all skill levels—from total beginners to seasoned makers looking to refine their craft! \nOver the course of six engaging\, hands-on sessions\, you’ll learn the fundamentals of hand building with clay. You’ll explore surface design techniques\, experiment with texture and form\, and create beautiful\, functional pottery pieces you’ll be proud to show off (or gift!). \nKPG Members – $335.00 + tax = $378.55 to be etransfered to administrator@kawarthapottersguild.com
URL:https://kawarthapottersguild.com/event/6-week-session-hand-building-nov-1-2025-2/
LOCATION:Kawartha Potters’ Guild\, Kingswood Centre\, 993 Talwood Drive\, Peterborough\, ON\, K9J 7R8\, Canada
CATEGORIES:Classes
ATTACH;FMTTYPE=image/jpeg:https://kawarthapottersguild.com/wp-content/uploads/2025/04/hand-building-e1744053151458.jpg
GEO:44.2929648;-78.3470201
X-APPLE-STRUCTURED-LOCATION;VALUE=URI;X-ADDRESS=Kawartha Potters’ Guild Kingswood Centre 993 Talwood Drive Peterborough ON K9J 7R8 Canada;X-APPLE-RADIUS=500;X-TITLE=993 Talwood Drive:geo:-78.3470201,44.2929648
END:VEVENT
BEGIN:VEVENT
DTSTART;TZID=America/Toronto:20251030T180000
DTEND;TZID=America/Toronto:20251030T203000
DTSTAMP:20260423T072559
CREATED:20250611T213715Z
LAST-MODIFIED:20250711T002723Z
UID:10000474-1761847200-1761856200@kawarthapottersguild.com
SUMMARY:6 Week Session - Hand Building - October 30\, 2025
DESCRIPTION:Get your hands dirty and your imagination flowing in this exciting 6-week pottery hand building class designed for all skill levels—from total beginners to seasoned makers looking to refine their craft! \nOver the course of six engaging\, hands-on sessions\, you’ll learn the fundamentals of hand building with clay. You’ll explore surface design techniques\, experiment with texture and form\, and create beautiful\, functional pottery pieces you’ll be proud to show off (or gift!). \nKPG Members – $335.00 + tax = $378.55 to be etransfered to administrator@kawarthapottersguild.com
URL:https://kawarthapottersguild.com/event/6-week-session-hand-building-october-30-2025/
LOCATION:Kawartha Potters’ Guild\, Kingswood Centre\, 993 Talwood Drive\, Peterborough\, ON\, K9J 7R8\, Canada
CATEGORIES:Classes
ATTACH;FMTTYPE=image/jpeg:https://kawarthapottersguild.com/wp-content/uploads/2025/04/hand-building-e1744053151458.jpg
GEO:44.2929648;-78.3470201
X-APPLE-STRUCTURED-LOCATION;VALUE=URI;X-ADDRESS=Kawartha Potters’ Guild Kingswood Centre 993 Talwood Drive Peterborough ON K9J 7R8 Canada;X-APPLE-RADIUS=500;X-TITLE=993 Talwood Drive:geo:-78.3470201,44.2929648
END:VEVENT
BEGIN:VEVENT
DTSTART;TZID=America/Toronto:20251029T103000
DTEND;TZID=America/Toronto:20251029T130000
DTSTAMP:20260423T072559
CREATED:20250611T213435Z
LAST-MODIFIED:20250711T002757Z
UID:10000473-1761733800-1761742800@kawarthapottersguild.com
SUMMARY:6 Week Session - Hand Building - October 29\, 2025
DESCRIPTION:Get your hands dirty and your imagination flowing in this exciting 6-week pottery hand building class designed for all skill levels—from total beginners to seasoned makers looking to refine their craft! \nOver the course of six engaging\, hands-on sessions\, you’ll learn the fundamentals of hand building with clay. You’ll explore surface design techniques\, experiment with texture and form\, and create beautiful\, functional pottery pieces you’ll be proud to show off (or gift!). \nKPG Members – $335.00 + tax = $378.55 to be etransfered to administrator@kawarthapottersguild.com
URL:https://kawarthapottersguild.com/event/6-week-session-hand-building-oct-29-2025-2/
LOCATION:Kawartha Potters’ Guild\, Kingswood Centre\, 993 Talwood Drive\, Peterborough\, ON\, K9J 7R8\, Canada
CATEGORIES:Classes
ATTACH;FMTTYPE=image/jpeg:https://kawarthapottersguild.com/wp-content/uploads/2025/04/hand-building-e1744053151458.jpg
GEO:44.2929648;-78.3470201
X-APPLE-STRUCTURED-LOCATION;VALUE=URI;X-ADDRESS=Kawartha Potters’ Guild Kingswood Centre 993 Talwood Drive Peterborough ON K9J 7R8 Canada;X-APPLE-RADIUS=500;X-TITLE=993 Talwood Drive:geo:-78.3470201,44.2929648
END:VEVENT
BEGIN:VEVENT
DTSTART;TZID=America/Toronto:20251005T103000
DTEND;TZID=America/Toronto:20251005T123000
DTSTAMP:20260423T072559
CREATED:20250111T221635Z
LAST-MODIFIED:20250415T214848Z
UID:10000386-1759660200-1759667400@kawarthapottersguild.com
SUMMARY:Mug & Mini Plate Workshop - Brenda - October 5\, 2025
DESCRIPTION:Join us for a fun hand building workshop where you’ll craft a personalized mug and a mini plate perfect for tea bags or jewelry! Explore your creativity by adding unique textures with our variety of available stamps. After shaping and creating your pieces\, we’ll glaze them\, and you can pick them up three weeks later to enjoy your handmade creations. Don’t miss this opportunity to express your artistic side! \nDon’t miss out—register today to secure your spot to play with clay! \nThis one off class runs Sunday morning October 5\, 2025\, 10:30 a.m. – 12:30 p.m. Cost is $73.45 (tax included) per person.  This includes all materials\, finishing and firing. \nCovid Policy: \nFace masks are no longer a requirement in the Guild.  KPG space is mask friendly and we do encourage you to wear a mask when working near others. \nWe request that if you feel sick to any degree\, that you do not come to class\, and to notify the Guild.   \nRefund Policy: \nNo refund will be given if notice of withdrawal is not received at least 10 days in advance of the start date. All refunds are subject to an administration fee of 20%. Any refund can be transferred to another class or purchase of items in the Pottery Shop (via a gift certificate) at full value.   \n 
URL:https://kawarthapottersguild.com/event/workshop-brenda-october/
CATEGORIES:Workshop
ATTACH;FMTTYPE=image/jpeg:https://kawarthapottersguild.com/wp-content/uploads/2024/07/Brenda-Barron.jpg
END:VEVENT
BEGIN:VEVENT
DTSTART;TZID=America/Toronto:20250920T130000
DTEND;TZID=America/Toronto:20250920T153000
DTSTAMP:20260423T072559
CREATED:20250610T192242Z
LAST-MODIFIED:20250911T125201Z
UID:10000471-1758373200-1758382200@kawarthapottersguild.com
SUMMARY:6 Week Session - Hand Building - Sat Aft September 20\, 2025
DESCRIPTION:Get your hands dirty and your imagination flowing in this exciting 6-week pottery hand building class designed for all skill levels—from total beginners to seasoned makers looking to refine their craft! \nOver the course of six engaging\, hands-on sessions\, you’ll learn the fundamentals of hand building with clay. You’ll explore surface design techniques\, experiment with texture and form\, and create beautiful\, functional pottery pieces you’ll be proud to show off (or gift!). \nKPG Members – $335.00 + tax = $378.55 to be etransfered to administrator@kawarthapottersguild.com
URL:https://kawarthapottersguild.com/event/6-week-session-hand-building-september-13-2025/
LOCATION:Kawartha Potters’ Guild\, Kingswood Centre\, 993 Talwood Drive\, Peterborough\, ON\, K9J 7R8\, Canada
CATEGORIES:Classes
ATTACH;FMTTYPE=image/jpeg:https://kawarthapottersguild.com/wp-content/uploads/2025/04/hand-building-e1744053151458.jpg
GEO:44.2929648;-78.3470201
X-APPLE-STRUCTURED-LOCATION;VALUE=URI;X-ADDRESS=Kawartha Potters’ Guild Kingswood Centre 993 Talwood Drive Peterborough ON K9J 7R8 Canada;X-APPLE-RADIUS=500;X-TITLE=993 Talwood Drive:geo:-78.3470201,44.2929648
END:VEVENT
BEGIN:VEVENT
DTSTART;TZID=America/Toronto:20250911T180000
DTEND;TZID=America/Toronto:20250911T203000
DTSTAMP:20260423T072559
CREATED:20250610T191141Z
LAST-MODIFIED:20250711T002003Z
UID:10000467-1757613600-1757622600@kawarthapottersguild.com
SUMMARY:6 Week Session - Hand Building - Thurs Eve September 11\, 2025
DESCRIPTION:Get your hands dirty and your imagination flowing in this exciting 6-week pottery hand building class designed for all skill levels—from total beginners to seasoned makers looking to refine their craft! \nOver the course of six engaging\, hands-on sessions\, you’ll learn the fundamentals of hand building with clay. You’ll explore surface design techniques\, experiment with texture and form\, and create beautiful\, functional pottery pieces you’ll be proud to show off (or gift!). \nKPG Members – $335.00 + tax = $378.55 to be etransfered to administrator@kawarthapottersguild.com
URL:https://kawarthapottersguild.com/event/6-week-session-hand-building-september11-2025/
LOCATION:Kawartha Potters’ Guild\, Kingswood Centre\, 993 Talwood Drive\, Peterborough\, ON\, K9J 7R8\, Canada
CATEGORIES:Classes
ATTACH;FMTTYPE=image/jpeg:https://kawarthapottersguild.com/wp-content/uploads/2025/04/hand-building-e1744053151458.jpg
GEO:44.2929648;-78.3470201
X-APPLE-STRUCTURED-LOCATION;VALUE=URI;X-ADDRESS=Kawartha Potters’ Guild Kingswood Centre 993 Talwood Drive Peterborough ON K9J 7R8 Canada;X-APPLE-RADIUS=500;X-TITLE=993 Talwood Drive:geo:-78.3470201,44.2929648
END:VEVENT
BEGIN:VEVENT
DTSTART;TZID=America/Toronto:20250910T103000
DTEND;TZID=America/Toronto:20250910T130000
DTSTAMP:20260423T072559
CREATED:20250610T191429Z
LAST-MODIFIED:20250711T001922Z
UID:10000468-1757500200-1757509200@kawarthapottersguild.com
SUMMARY:6 Week Session - Hand Building - Wed Morn September 10\, 2025
DESCRIPTION:Get your hands dirty and your imagination flowing in this exciting 6-week pottery hand building class designed for all skill levels—from total beginners to seasoned makers looking to refine their craft! \nOver the course of six engaging\, hands-on sessions\, you’ll learn the fundamentals of hand building with clay. You’ll explore surface design techniques\, experiment with texture and form\, and create beautiful\, functional pottery pieces you’ll be proud to show off (or gift!). \nKPG Members – $335.00 + tax = $378.55 to be etransfered to administrator@kawarthapottersguild.com
URL:https://kawarthapottersguild.com/event/6-week-session-hand-building-september-10-2025-2/
LOCATION:Kawartha Potters’ Guild\, Kingswood Centre\, 993 Talwood Drive\, Peterborough\, ON\, K9J 7R8\, Canada
CATEGORIES:Classes
ATTACH;FMTTYPE=image/jpeg:https://kawarthapottersguild.com/wp-content/uploads/2025/04/hand-building-e1744053151458.jpg
GEO:44.2929648;-78.3470201
X-APPLE-STRUCTURED-LOCATION;VALUE=URI;X-ADDRESS=Kawartha Potters’ Guild Kingswood Centre 993 Talwood Drive Peterborough ON K9J 7R8 Canada;X-APPLE-RADIUS=500;X-TITLE=993 Talwood Drive:geo:-78.3470201,44.2929648
END:VEVENT
BEGIN:VEVENT
DTSTART;TZID=America/Toronto:20250907T103000
DTEND;TZID=America/Toronto:20250907T123000
DTSTAMP:20260423T072559
CREATED:20250111T223829Z
LAST-MODIFIED:20250820T155139Z
UID:10000391-1757241000-1757248200@kawarthapottersguild.com
SUMMARY:Pumpkin Workshop - Brenda - September 7\, 2025
DESCRIPTION:In this workshop\, you’ll learn the pinch pot hand building technique to create up to three charming pumpkin-shaped pots from a ball of clay. After forming the pots\, you’ll have the opportunity to decorate them using a selection of vibrant underglaze colours. Once finished\, your creations will be coated in a clear glaze for a polished look\, and they will be ready for pick up three weeks after the workshop concludes. \nDon’t miss out—register today to secure your spot to play with clay! \nThis one off class runs Sunday morning September 7\, 2025\, 10:30 a.m. – 12:30 p.m. Cost is $73.45 (tax included) per person.  This includes all materials\, finishing and firing. \nCovid Policy: \nFace masks are no longer a requirement in the Guild.  KPG space is mask friendly and we do encourage you to wear a mask when working near others. \nWe request that if you feel sick to any degree\, that you do not come to class\, and to notify the Guild.   \nRefund Policy: \nNo refund will be given if notice of withdrawal is not received at least 10 days in advance of the start date. All refunds are subject to an administration fee of 20%. Any refund can be transferred to another class or purchase of items in the Pottery Shop (via a gift certificate) at full value.   \n \n 
URL:https://kawarthapottersguild.com/event/pumpkin-workshop-september/
CATEGORIES:Workshop
ATTACH;FMTTYPE=image/jpeg:https://kawarthapottersguild.com/wp-content/uploads/2024/07/Brenda-Barron.jpg
END:VEVENT
BEGIN:VEVENT
DTSTART;TZID=America/Toronto:20250608T103000
DTEND;TZID=America/Toronto:20250608T123000
DTSTAMP:20260423T072559
CREATED:20250111T223448Z
LAST-MODIFIED:20250522T183747Z
UID:10000390-1749378600-1749385800@kawarthapottersguild.com
SUMMARY:Mug + Mini Plate - Brenda - June 8\, 2025
DESCRIPTION:Mug + Mini Plate \n \nJoin us for a fun handbuilding workshop where you’ll craft a personalized mug and a mini plate perfect for tea bags or jewelry! Explore your creativity by adding unique textures with our variety of available stamps. After shaping and creating your pieces\, we’ll glaze them\, and you can pick them up three weeks later to enjoy your handmade creations. Don’t miss this opportunity to express your artistic side! \nDon’t miss out—register today to secure your spot to play with clay! \nThis one off class runs Sunday morning June 8th\, 2025\, 10:30 a.m. – 12:30 p.m. Cost is $73.45 (tax included) per person.  This includes all materials\, finishing and firing. \nCovid Policy: \nFace masks are no longer a requirement in the Guild.  KPG space is mask friendly and we do encourage you to wear a mask when working near others. \nWe request that if you feel sick to any degree\, that you do not come to class\, and to notify the Guild.   \nRefund Policy: \nNo refund will be given if notice of withdrawal is not received at least 10 days in advance of the start date. All refunds are subject to an administration fee of 20%. Any refund can be transferred to another class or purchase of items in the Pottery Shop (via a gift certificate) at full value.   \n 
URL:https://kawarthapottersguild.com/event/succulent-planter-workshop/
CATEGORIES:Workshop
ATTACH;FMTTYPE=image/jpeg:https://kawarthapottersguild.com/wp-content/uploads/2024/07/Brenda-Barron.jpg
END:VEVENT
BEGIN:VEVENT
DTSTART;TZID=America/Toronto:20250504T103000
DTEND;TZID=America/Toronto:20250504T123000
DTSTAMP:20260423T072559
CREATED:20250111T223157Z
LAST-MODIFIED:20250415T214704Z
UID:10000389-1746354600-1746361800@kawarthapottersguild.com
SUMMARY:Berry Bowl & Plate Workshop - Brenda - May 4\, 2025
DESCRIPTION:Join us for a hands-on workshop where you’ll learn the hand building slab technique to create a unique personal-sized berry bowl and a matching plate. Explore your creativity by adding texture using our variety of stamps\, and we’ll take care of the glazing to finish your pieces. Your handcrafted berry bowl and plate will be ready for pickup in three weeks after the workshop\, allowing you to enjoy your custom creations! \nDon’t miss out—register today to secure your spot to play with clay! \nThis one off class runs Sunday morning May 4\, 2025\, 10:30 a.m. – 12:30 p.m. Cost is $73.45 (tax included) per person.  This includes all materials\, finishing and firing. \nCovid Policy: \nFace masks are no longer a requirement in the Guild.  KPG space is mask friendly and we do encourage you to wear a mask when working near others. \nWe request that if you feel sick to any degree\, that you do not come to class\, and to notify the Guild.   \nRefund Policy: \nNo refund will be given if notice of withdrawal is not received at least 10 days in advance of the start date. All refunds are subject to an administration fee of 20%. Any refund can be transferred to another class or purchase of items in the Pottery Shop (via a gift certificate) at full value.   \n 
URL:https://kawarthapottersguild.com/event/berry-workshop-brenda/
CATEGORIES:Workshop
ATTACH;FMTTYPE=image/jpeg:https://kawarthapottersguild.com/wp-content/uploads/2024/07/Brenda-Barron.jpg
END:VEVENT
BEGIN:VEVENT
DTSTART;TZID=America/Toronto:20250426T130000
DTEND;TZID=America/Toronto:20250426T153000
DTSTAMP:20260423T072559
CREATED:20250407T191743Z
LAST-MODIFIED:20250407T191743Z
UID:10000430-1745672400-1745681400@kawarthapottersguild.com
SUMMARY:6 Week Session - Hand Building - April 26\, 2025
DESCRIPTION:Get your hands dirty and your imagination flowing in this exciting 6-week pottery hand building class designed for all skill levels—from total beginners to seasoned makers looking to refine their craft! \nOver the course of six engaging\, hands-on sessions\, you’ll learn the fundamentals of hand building with clay. You’ll explore surface design techniques\, experiment with texture and form\, and create beautiful\, functional pottery pieces you’ll be proud to show off (or gift!).
URL:https://kawarthapottersguild.com/event/6-week-session-hand-building-april-26-2025/
LOCATION:Kawartha Potters’ Guild\, Kingswood Centre\, 993 Talwood Drive\, Peterborough\, ON\, K9J 7R8\, Canada
CATEGORIES:Classes
ATTACH;FMTTYPE=image/jpeg:https://kawarthapottersguild.com/wp-content/uploads/2025/04/hand-building-e1744053151458.jpg
GEO:44.2929648;-78.3470201
X-APPLE-STRUCTURED-LOCATION;VALUE=URI;X-ADDRESS=Kawartha Potters’ Guild Kingswood Centre 993 Talwood Drive Peterborough ON K9J 7R8 Canada;X-APPLE-RADIUS=500;X-TITLE=993 Talwood Drive:geo:-78.3470201,44.2929648
END:VEVENT
BEGIN:VEVENT
DTSTART;TZID=America/Toronto:20250423T103000
DTEND;TZID=America/Toronto:20250423T130000
DTSTAMP:20260423T072559
CREATED:20250407T191524Z
LAST-MODIFIED:20250407T191524Z
UID:10000429-1745404200-1745413200@kawarthapottersguild.com
SUMMARY:6 Week Session - Hand Building - April 23\, 2025
DESCRIPTION:Get your hands dirty and your imagination flowing in this exciting 6-week pottery hand building class designed for all skill levels—from total beginners to seasoned makers looking to refine their craft! \nOver the course of six engaging\, hands-on sessions\, you’ll learn the fundamentals of hand building with clay. You’ll explore surface design techniques\, experiment with texture and form\, and create beautiful\, functional pottery pieces you’ll be proud to show off (or gift!).
URL:https://kawarthapottersguild.com/event/6-week-session-hand-building-april-23-2025/
LOCATION:Kawartha Potters’ Guild\, Kingswood Centre\, 993 Talwood Drive\, Peterborough\, ON\, K9J 7R8\, Canada
CATEGORIES:Classes
ATTACH;FMTTYPE=image/jpeg:https://kawarthapottersguild.com/wp-content/uploads/2025/04/hand-building-e1744053151458.jpg
GEO:44.2929648;-78.3470201
X-APPLE-STRUCTURED-LOCATION;VALUE=URI;X-ADDRESS=Kawartha Potters’ Guild Kingswood Centre 993 Talwood Drive Peterborough ON K9J 7R8 Canada;X-APPLE-RADIUS=500;X-TITLE=993 Talwood Drive:geo:-78.3470201,44.2929648
END:VEVENT
END:VCALENDAR