BEGIN:VCALENDAR
VERSION:2.0
PRODID:-//Kawartha Potters&#039; Guild - ECPv6.15.17.1//NONSGML v1.0//EN
CALSCALE:GREGORIAN
METHOD:PUBLISH
X-WR-CALNAME:Kawartha Potters&#039; Guild
X-ORIGINAL-URL:https://kawarthapottersguild.com
X-WR-CALDESC:Events for Kawartha Potters&#039; Guild
REFRESH-INTERVAL;VALUE=DURATION:PT1H
X-Robots-Tag:noindex
X-PUBLISHED-TTL:PT1H
BEGIN:VTIMEZONE
TZID:America/Toronto
BEGIN:DAYLIGHT
TZOFFSETFROM:-0500
TZOFFSETTO:-0400
TZNAME:EDT
DTSTART:20240310T070000
END:DAYLIGHT
BEGIN:STANDARD
TZOFFSETFROM:-0400
TZOFFSETTO:-0500
TZNAME:EST
DTSTART:20241103T060000
END:STANDARD
BEGIN:DAYLIGHT
TZOFFSETFROM:-0500
TZOFFSETTO:-0400
TZNAME:EDT
DTSTART:20250309T070000
END:DAYLIGHT
BEGIN:STANDARD
TZOFFSETFROM:-0400
TZOFFSETTO:-0500
TZNAME:EST
DTSTART:20251102T060000
END:STANDARD
BEGIN:DAYLIGHT
TZOFFSETFROM:-0500
TZOFFSETTO:-0400
TZNAME:EDT
DTSTART:20260308T070000
END:DAYLIGHT
BEGIN:STANDARD
TZOFFSETFROM:-0400
TZOFFSETTO:-0500
TZNAME:EST
DTSTART:20261101T060000
END:STANDARD
BEGIN:DAYLIGHT
TZOFFSETFROM:-0500
TZOFFSETTO:-0400
TZNAME:EDT
DTSTART:20270314T070000
END:DAYLIGHT
BEGIN:STANDARD
TZOFFSETFROM:-0400
TZOFFSETTO:-0500
TZNAME:EST
DTSTART:20271107T060000
END:STANDARD
END:VTIMEZONE
BEGIN:VEVENT
DTSTART;TZID=America/Toronto:20260216T183000
DTEND;TZID=America/Toronto:20260216T203000
DTSTAMP:20260424T084232
CREATED:20260211T182611Z
LAST-MODIFIED:20260211T183300Z
UID:10000538-1771266600-1771273800@kawarthapottersguild.com
SUMMARY:Cabernet & Clay: Candlelit Evening Potter’s Wheel Experience
DESCRIPTION:Join Jaz for a sultry evening of wheel throwing\, sweet tunes\, and wine or tea! You’ll dive right into the basics of the pottery wheel and come away with your new favourite bowl\, cup\, or vase. This will be a hands on class so come prepared for a bit of mud and allot of fun! All materials and tools will be provided. We will trim your pieces\, gaze\, and fire them to be picked up 3-4 weeks after your class. This class in intended for adults 19+  \n• 6 students max- for hands on personalized instruction \n• some experience preferred but not required (let us know)\n• keep 1 finished pieces (you choose glaze colour)\nMonday February 16th 6:30pm-8:30pm \n$55 non member price/person + HST \n$50 members price/person +HST \nPayment Details: \nAs a not-for-profit PayPal fees can cut into slim operating budget- payment by e-transfers or cash at the guild are greatly appreciated! \nFee (with tax): $56.50 (member total with tax)  please send e-transfers to administrator@kawarthapottersguild.com \n                            $62.15 (non-member price with tax) \n  \nRefund Policy: \nNo refund will be given if notice of withdrawal is not received at least 10 days in advance of the start date. All refunds are subject to an administration fee of 20%. Any refund can be transferred to another class or purchase of items in the Pottery Shop (via a gift certificate) at full value. 
URL:https://kawarthapottersguild.com/event/cabernet-clay-candlelit-evening-potters-wheel-experience/
LOCATION:Kawartha Potters’ Guild\, Kingswood Centre\, 993 Talwood Drive\, Peterborough\, ON\, K9J 7R8\, Canada
CATEGORIES:Classes,Workshop
ATTACH;FMTTYPE=image/jpeg:https://kawarthapottersguild.com/wp-content/uploads/2026/02/Cabernet-and-Clay.jpeg
GEO:44.2929648;-78.3470201
X-APPLE-STRUCTURED-LOCATION;VALUE=URI;X-ADDRESS=Kawartha Potters’ Guild Kingswood Centre 993 Talwood Drive Peterborough ON K9J 7R8 Canada;X-APPLE-RADIUS=500;X-TITLE=993 Talwood Drive:geo:-78.3470201,44.2929648
END:VEVENT
BEGIN:VEVENT
DTSTART;TZID=America/Toronto:20250807T160000
DTEND;TZID=America/Toronto:20250807T210000
DTSTAMP:20260424T084232
CREATED:20250709T130226Z
LAST-MODIFIED:20250709T130654Z
UID:10000485-1754582400-1754600400@kawarthapottersguild.com
SUMMARY:Pottery Bootcamp Aug. 7 - 10th\, 2025
DESCRIPTION:Join us for a focused 4-day Wheel Throwing Bootcamp designed for potters who want to refine technique\, explore advanced forms\, and increase consistency. With intensive instruction and personalized feedback\, you’ll deepen your practice and leave with work that reflects your growth\, including 2-3 bisque-fired pieces. Space is limited; secure your spot now. \nMember $300.00 + tax = $339.00 and Non-Member $360.00 + tax = $406.80 \nRegister by sending e-transfer to: administrator@kawarthapottersguild.com with a note in the message that it is for Wheel Bootcamp.
URL:https://kawarthapottersguild.com/event/pottery-bootcamp/
LOCATION:Kawartha Potters’ Guild\, Kingswood Centre\, 993 Talwood Drive\, Peterborough\, ON\, K9J 7R8\, Canada
CATEGORIES:Classes,Workshop
ATTACH;FMTTYPE=image/jpeg:https://kawarthapottersguild.com/wp-content/uploads/2025/07/Pottery-Bootcamp-002.jpg
GEO:44.2929648;-78.3470201
X-APPLE-STRUCTURED-LOCATION;VALUE=URI;X-ADDRESS=Kawartha Potters’ Guild Kingswood Centre 993 Talwood Drive Peterborough ON K9J 7R8 Canada;X-APPLE-RADIUS=500;X-TITLE=993 Talwood Drive:geo:-78.3470201,44.2929648
END:VEVENT
END:VCALENDAR